BEGIN:VCALENDAR
VERSION:2.0
PRODID:-//Ville de Châteaubernard - ECPv6.15.20//NONSGML v1.0//EN
CALSCALE:GREGORIAN
METHOD:PUBLISH
X-ORIGINAL-URL:https://www.ville-chateaubernard.fr
X-WR-CALDESC:Évènements pour Ville de Châteaubernard
REFRESH-INTERVAL;VALUE=DURATION:PT1H
X-Robots-Tag:noindex
X-PUBLISHED-TTL:PT1H
BEGIN:VTIMEZONE
TZID:Europe/Paris
BEGIN:DAYLIGHT
TZOFFSETFROM:+0100
TZOFFSETTO:+0200
TZNAME:CEST
DTSTART:20170326T010000
END:DAYLIGHT
BEGIN:STANDARD
TZOFFSETFROM:+0200
TZOFFSETTO:+0100
TZNAME:CET
DTSTART:20171029T010000
END:STANDARD
BEGIN:DAYLIGHT
TZOFFSETFROM:+0100
TZOFFSETTO:+0200
TZNAME:CEST
DTSTART:20180325T010000
END:DAYLIGHT
BEGIN:STANDARD
TZOFFSETFROM:+0200
TZOFFSETTO:+0100
TZNAME:CET
DTSTART:20181028T010000
END:STANDARD
BEGIN:DAYLIGHT
TZOFFSETFROM:+0100
TZOFFSETTO:+0200
TZNAME:CEST
DTSTART:20190331T010000
END:DAYLIGHT
BEGIN:STANDARD
TZOFFSETFROM:+0200
TZOFFSETTO:+0100
TZNAME:CET
DTSTART:20191027T010000
END:STANDARD
END:VTIMEZONE
BEGIN:VEVENT
DTSTART;TZID=Europe/Paris:20180912T150000
DTEND;TZID=Europe/Paris:20180912T160000
DTSTAMP:20260426T022632
CREATED:20180816T122005Z
LAST-MODIFIED:20180816T122213Z
UID:38702-1536764400-1536768000@www.ville-chateaubernard.fr
SUMMARY:L'heure du conte "Le monde de la ruche"
DESCRIPTION:Dès 4 ans sur inscription 05 45 32 76 76
URL:https://www.ville-chateaubernard.fr/agenda/lheure-du-conte-le-monde-de-la-ruche/
LOCATION:Médiathèque
CATEGORIES:Actualités
END:VEVENT
END:VCALENDAR